BEGIN:VCALENDAR
VERSION:2.0
PRODID:-//Bendigo Central Axedale - ECPv6.15.18//NONSGML v1.0//EN
CALSCALE:GREGORIAN
METHOD:PUBLISH
X-WR-CALNAME:Bendigo Central Axedale
X-ORIGINAL-URL:https://bendigocentralaxedale.ucavictas.org.au
X-WR-CALDESC:Events for Bendigo Central Axedale
REFRESH-INTERVAL;VALUE=DURATION:PT1H
X-Robots-Tag:noindex
X-PUBLISHED-TTL:PT1H
BEGIN:VTIMEZONE
TZID:Australia/Melbourne
BEGIN:STANDARD
TZOFFSETFROM:+1100
TZOFFSETTO:+1000
TZNAME:AEST
DTSTART:20240406T160000
END:STANDARD
BEGIN:DAYLIGHT
TZOFFSETFROM:+1000
TZOFFSETTO:+1100
TZNAME:AEDT
DTSTART:20241005T160000
END:DAYLIGHT
BEGIN:STANDARD
TZOFFSETFROM:+1100
TZOFFSETTO:+1000
TZNAME:AEST
DTSTART:20250405T160000
END:STANDARD
BEGIN:DAYLIGHT
TZOFFSETFROM:+1000
TZOFFSETTO:+1100
TZNAME:AEDT
DTSTART:20251004T160000
END:DAYLIGHT
BEGIN:STANDARD
TZOFFSETFROM:+1100
TZOFFSETTO:+1000
TZNAME:AEST
DTSTART:20260404T160000
END:STANDARD
BEGIN:DAYLIGHT
TZOFFSETFROM:+1000
TZOFFSETTO:+1100
TZNAME:AEDT
DTSTART:20261003T160000
END:DAYLIGHT
END:VTIMEZONE
BEGIN:VEVENT
DTSTART;TZID=Australia/Melbourne:20250703T100000
DTEND;TZID=Australia/Melbourne:20250703T130000
DTSTAMP:20260421T151623
CREATED:20250708T022550Z
LAST-MODIFIED:20250708T022550Z
UID:1612-1751536800-1751547600@bendigocentralaxedale.ucavictas.org.au
SUMMARY:Cuppa with Company
DESCRIPTION:Runs every Thursday at Forest St UC.  In our relaxed atmosphere you can enjoy: \n\nHot and Cold beverages\nDelicious lunch\, sweets and snacks\nA friendly chin wag
URL:https://bendigocentralaxedale.ucavictas.org.au/event/cuppa-with-company-53/
LOCATION:Forest St UC Hall\, 21 Forest St\, Bendigo\, Vic\, 3550\, Australia
ATTACH;FMTTYPE=image/jpeg:https://bendigocentralaxedale.ucavictas.org.au/wp-content/uploads/2023/04/cafe-2013_08_15-05_29_43-UTC.jpg
END:VEVENT
BEGIN:VEVENT
DTSTART;TZID=Australia/Melbourne:20250701T160000
DTEND;TZID=Australia/Melbourne:20250701T170000
DTSTAMP:20260421T151623
CREATED:20250708T023537Z
LAST-MODIFIED:20250708T023537Z
UID:1630-1751385600-1751389200@bendigocentralaxedale.ucavictas.org.au
SUMMARY:BUCSJG Meeting
DESCRIPTION:Bendigo Uniting Churches Social Justice Group Meets the first Tuesday of the month.
URL:https://bendigocentralaxedale.ucavictas.org.au/event/bucsjg-meeting-4/
LOCATION:St Andrew’s Meeting Room
ATTACH;FMTTYPE=image/jpeg:https://bendigocentralaxedale.ucavictas.org.au/wp-content/uploads/2023/04/banner4-2.jpg
END:VEVENT
BEGIN:VEVENT
DTSTART;TZID=Australia/Melbourne:20250629T093000
DTEND;TZID=Australia/Melbourne:20250629T103000
DTSTAMP:20260421T151623
CREATED:20250316T235332Z
LAST-MODIFIED:20250316T235332Z
UID:1282-1751189400-1751193000@bendigocentralaxedale.ucavictas.org.au
SUMMARY:Worship Service
DESCRIPTION:Worship service (Pentecost 3) led by Rev Di Esbensen
URL:https://bendigocentralaxedale.ucavictas.org.au/event/worship-service-35/
LOCATION:St Andrew’s UC\, 26 Myers St\, Bendigo\, VIC\, 3550\, Australia
ATTACH;FMTTYPE=image/png:https://bendigocentralaxedale.ucavictas.org.au/wp-content/uploads/2023/03/StA-2014_07_22-00_55_28-UTC-1.png
END:VEVENT
BEGIN:VEVENT
DTSTART;TZID=Australia/Melbourne:20250627T090000
DTEND;TZID=Australia/Melbourne:20250627T100000
DTSTAMP:20260421T151623
CREATED:20250317T221408Z
LAST-MODIFIED:20250317T221408Z
UID:1383-1751014800-1751018400@bendigocentralaxedale.ucavictas.org.au
SUMMARY:Meditation Group
DESCRIPTION:Weekly meeting in the St Andrew’s Chapel for a period of silence and reflection.
URL:https://bendigocentralaxedale.ucavictas.org.au/event/meditation-group-28/
LOCATION:St Andrew’s Chapel
ATTACH;FMTTYPE=image/jpeg:https://bendigocentralaxedale.ucavictas.org.au/wp-content/uploads/2023/04/candleforgive.jpg
END:VEVENT
BEGIN:VEVENT
DTSTART;TZID=Australia/Melbourne:20250626T100000
DTEND;TZID=Australia/Melbourne:20250626T130000
DTSTAMP:20260421T151623
CREATED:20250317T002522Z
LAST-MODIFIED:20250708T022455Z
UID:1324-1750932000-1750942800@bendigocentralaxedale.ucavictas.org.au
SUMMARY:Cuppa with Company
DESCRIPTION:Runs every Thursday at Forest St UC.  In our relaxed atmosphere you can enjoy: \n\nHot and Cold beverages\nDelicious lunch\, sweets and snacks\nA friendly chin wag
URL:https://bendigocentralaxedale.ucavictas.org.au/event/cuppa-with-company-52/
LOCATION:Forest St UC Hall\, 21 Forest St\, Bendigo\, Vic\, 3550\, Australia
ATTACH;FMTTYPE=image/jpeg:https://bendigocentralaxedale.ucavictas.org.au/wp-content/uploads/2023/04/cafe-2013_08_15-05_29_43-UTC.jpg
END:VEVENT
BEGIN:VEVENT
DTSTART;TZID=Australia/Melbourne:20250625T090000
DTEND;TZID=Australia/Melbourne:20250625T130000
DTSTAMP:20260421T151623
CREATED:20250317T003758Z
LAST-MODIFIED:20250317T003758Z
UID:1350-1750842000-1750856400@bendigocentralaxedale.ucavictas.org.au
SUMMARY:Uniting Threads
DESCRIPTION:The group meets weekly\, on Wednesdays at St Andrew’s Uniting Church
URL:https://bendigocentralaxedale.ucavictas.org.au/event/uniting-threads-43/
LOCATION:St Andrew’s Small Hall\, 26 Myers St\, Bendigo\, VIC\, 3550\, Australia
ATTACH;FMTTYPE=image/jpeg:https://bendigocentralaxedale.ucavictas.org.au/wp-content/uploads/2023/04/t_unitingthreads.jpg
END:VEVENT
BEGIN:VEVENT
DTSTART;TZID=Australia/Melbourne:20250622T093000
DTEND;TZID=Australia/Melbourne:20250622T103000
DTSTAMP:20260421T151623
CREATED:20250316T235215Z
LAST-MODIFIED:20250316T235215Z
UID:1280-1750584600-1750588200@bendigocentralaxedale.ucavictas.org.au
SUMMARY:Worship Service at Forest St
DESCRIPTION:Worship service (Pentecost 2 / UC Anniversary) led by Rev Di Esbensen
URL:https://bendigocentralaxedale.ucavictas.org.au/event/worship-service-at-forest-st-6/
LOCATION:Forest St UC\, 21 Forest St\, Bendigo\, VIC\, 3550\, Australia
ATTACH;FMTTYPE=image/jpeg:https://bendigocentralaxedale.ucavictas.org.au/wp-content/uploads/2023/03/forestst.jpg
END:VEVENT
BEGIN:VEVENT
DTSTART;TZID=Australia/Melbourne:20250620T090000
DTEND;TZID=Australia/Melbourne:20250620T100000
DTSTAMP:20260421T151623
CREATED:20250317T221331Z
LAST-MODIFIED:20250317T221331Z
UID:1381-1750410000-1750413600@bendigocentralaxedale.ucavictas.org.au
SUMMARY:Meditation Group
DESCRIPTION:Weekly meeting in the St Andrew’s Chapel for a period of silence and reflection.
URL:https://bendigocentralaxedale.ucavictas.org.au/event/meditation-group-27/
LOCATION:St Andrew’s Chapel
ATTACH;FMTTYPE=image/jpeg:https://bendigocentralaxedale.ucavictas.org.au/wp-content/uploads/2023/04/candleforgive.jpg
END:VEVENT
BEGIN:VEVENT
DTSTART;TZID=Australia/Melbourne:20250619T100000
DTEND;TZID=Australia/Melbourne:20250619T130000
DTSTAMP:20260421T151623
CREATED:20250317T002449Z
LAST-MODIFIED:20250317T002449Z
UID:1322-1750327200-1750338000@bendigocentralaxedale.ucavictas.org.au
SUMMARY:Cuppa with Company
DESCRIPTION:Runs every Thursday at Forest St UC.  In our relaxed atmosphere you can enjoy: \n\nHot and Cold beverages\nDelicious lunch\, sweets and snacks\nA friendly chin wag
URL:https://bendigocentralaxedale.ucavictas.org.au/event/cuppa-with-company-51/
LOCATION:Forest St UC Hall\, 21 Forest St\, Bendigo\, Vic\, 3550\, Australia
ATTACH;FMTTYPE=image/jpeg:https://bendigocentralaxedale.ucavictas.org.au/wp-content/uploads/2023/04/cafe-2013_08_15-05_29_43-UTC.jpg
END:VEVENT
BEGIN:VEVENT
DTSTART;TZID=Australia/Melbourne:20250618T090000
DTEND;TZID=Australia/Melbourne:20250618T130000
DTSTAMP:20260421T151623
CREATED:20250317T003705Z
LAST-MODIFIED:20250317T003705Z
UID:1348-1750237200-1750251600@bendigocentralaxedale.ucavictas.org.au
SUMMARY:Uniting Threads
DESCRIPTION:The group meets weekly\, on Wednesdays at St Andrew’s Uniting Church
URL:https://bendigocentralaxedale.ucavictas.org.au/event/uniting-threads-42/
LOCATION:St Andrew’s Small Hall\, 26 Myers St\, Bendigo\, VIC\, 3550\, Australia
ATTACH;FMTTYPE=image/jpeg:https://bendigocentralaxedale.ucavictas.org.au/wp-content/uploads/2023/04/t_unitingthreads.jpg
END:VEVENT
BEGIN:VEVENT
DTSTART;TZID=Australia/Melbourne:20250617T193000
DTEND;TZID=Australia/Melbourne:20250617T203000
DTSTAMP:20260421T151623
CREATED:20250317T222642Z
LAST-MODIFIED:20250317T222705Z
UID:1391-1750188600-1750192200@bendigocentralaxedale.ucavictas.org.au
SUMMARY:Church Council Meeting
DESCRIPTION:June Church Council Meeting
URL:https://bendigocentralaxedale.ucavictas.org.au/event/church-council-meeting-3/
LOCATION:Forest St Vestry\, 21 Forest St\, Bendigo\, Vic\, 3550\, Australia
END:VEVENT
BEGIN:VEVENT
DTSTART;TZID=Australia/Melbourne:20250615T093000
DTEND;TZID=Australia/Melbourne:20250615T103000
DTSTAMP:20260421T151623
CREATED:20250316T235029Z
LAST-MODIFIED:20250319T232342Z
UID:1278-1749979800-1749983400@bendigocentralaxedale.ucavictas.org.au
SUMMARY:Worship Service at St Andrew's
DESCRIPTION:Worship service (Trinity Sunday) led by Rev Kevin Dobson
URL:https://bendigocentralaxedale.ucavictas.org.au/event/worship-service-at-st-andrews-5/
LOCATION:St Andrew’s UC\, 26 Myers St\, Bendigo\, VIC\, 3550\, Australia
ATTACH;FMTTYPE=image/png:https://bendigocentralaxedale.ucavictas.org.au/wp-content/uploads/2023/03/StA-2014_07_22-00_55_28-UTC-1.png
END:VEVENT
BEGIN:VEVENT
DTSTART;TZID=Australia/Melbourne:20250615T023000
DTEND;TZID=Australia/Melbourne:20250615T153000
DTSTAMP:20260421T151623
CREATED:20250319T232527Z
LAST-MODIFIED:20250319T232527Z
UID:1426-1749954600-1750001400@bendigocentralaxedale.ucavictas.org.au
SUMMARY:Worship Service at Axedale
DESCRIPTION:Worship service (Trinity Sunday) led by Rev Kevin Dobson
URL:https://bendigocentralaxedale.ucavictas.org.au/event/worship-service-at-axedale-3/
LOCATION:St Andrew’s Axedale UC\, 80 High St\, Axedale\, VIC\, 3551\, Australia
ATTACH;FMTTYPE=image/gif:https://bendigocentralaxedale.ucavictas.org.au/wp-content/uploads/2023/03/axeUC-2015_03_18-01_34_36-UTC.gif
END:VEVENT
BEGIN:VEVENT
DTSTART;TZID=Australia/Melbourne:20250613T090000
DTEND;TZID=Australia/Melbourne:20250613T100000
DTSTAMP:20260421T151623
CREATED:20250317T221226Z
LAST-MODIFIED:20250317T221226Z
UID:1379-1749805200-1749808800@bendigocentralaxedale.ucavictas.org.au
SUMMARY:Meditation Group
DESCRIPTION:Weekly meeting in the St Andrew’s Chapel for a period of silence and reflection.
URL:https://bendigocentralaxedale.ucavictas.org.au/event/meditation-group-26/
LOCATION:St Andrew’s Chapel
ATTACH;FMTTYPE=image/jpeg:https://bendigocentralaxedale.ucavictas.org.au/wp-content/uploads/2023/04/candleforgive.jpg
END:VEVENT
BEGIN:VEVENT
DTSTART;TZID=Australia/Melbourne:20250612T100000
DTEND;TZID=Australia/Melbourne:20250612T130000
DTSTAMP:20260421T151623
CREATED:20250317T002410Z
LAST-MODIFIED:20250317T002410Z
UID:1320-1749722400-1749733200@bendigocentralaxedale.ucavictas.org.au
SUMMARY:Cuppa with Company
DESCRIPTION:Runs every Thursday at Forest St UC.  In our relaxed atmosphere you can enjoy: \n\nHot and Cold beverages\nDelicious lunch\, sweets and snacks\nA friendly chin wag
URL:https://bendigocentralaxedale.ucavictas.org.au/event/cuppa-with-company-50/
LOCATION:Forest St UC Hall\, 21 Forest St\, Bendigo\, Vic\, 3550\, Australia
ATTACH;FMTTYPE=image/jpeg:https://bendigocentralaxedale.ucavictas.org.au/wp-content/uploads/2023/04/cafe-2013_08_15-05_29_43-UTC.jpg
END:VEVENT
BEGIN:VEVENT
DTSTART;TZID=Australia/Melbourne:20250611T090000
DTEND;TZID=Australia/Melbourne:20250611T130000
DTSTAMP:20260421T151623
CREATED:20250317T003617Z
LAST-MODIFIED:20250317T003617Z
UID:1346-1749632400-1749646800@bendigocentralaxedale.ucavictas.org.au
SUMMARY:Uniting Threads
DESCRIPTION:The group meets weekly\, on Wednesdays at St Andrew’s Uniting Church
URL:https://bendigocentralaxedale.ucavictas.org.au/event/uniting-threads-41/
LOCATION:St Andrew’s Small Hall\, 26 Myers St\, Bendigo\, VIC\, 3550\, Australia
ATTACH;FMTTYPE=image/jpeg:https://bendigocentralaxedale.ucavictas.org.au/wp-content/uploads/2023/04/t_unitingthreads.jpg
END:VEVENT
BEGIN:VEVENT
DTSTART;TZID=Australia/Melbourne:20250610T193000
DTEND;TZID=Australia/Melbourne:20250610T203000
DTSTAMP:20260421T151623
CREATED:20250317T222048Z
LAST-MODIFIED:20250317T222048Z
UID:1389-1749583800-1749587400@bendigocentralaxedale.ucavictas.org.au
SUMMARY:Going Deeper Discussion Group
DESCRIPTION:
URL:https://bendigocentralaxedale.ucavictas.org.au/event/going-deeper-discussion-group-3/
LOCATION:Forest St Vestry\, 21 Forest St\, Bendigo\, Vic\, 3550\, Australia
END:VEVENT
BEGIN:VEVENT
DTSTART;VALUE=DATE:20250609
DTEND;VALUE=DATE:20250610
DTSTAMP:20260421T151623
CREATED:20250317T223854Z
LAST-MODIFIED:20250317T223854Z
UID:1399-1749427200-1749513599@bendigocentralaxedale.ucavictas.org.au
SUMMARY:King's Birthday Public Holiday
DESCRIPTION:
URL:https://bendigocentralaxedale.ucavictas.org.au/event/kings-birthday-public-holiday/
LOCATION:Vic
END:VEVENT
BEGIN:VEVENT
DTSTART;TZID=Australia/Melbourne:20250608T093000
DTEND;TZID=Australia/Melbourne:20250608T103000
DTSTAMP:20260421T151623
CREATED:20250316T234915Z
LAST-MODIFIED:20250316T234915Z
UID:1276-1749375000-1749378600@bendigocentralaxedale.ucavictas.org.au
SUMMARY:Worship Service at Forest St
DESCRIPTION:Worship service (Pentecost) led by Rev Di Esbensen
URL:https://bendigocentralaxedale.ucavictas.org.au/event/worship-service-at-forest-st-5/
LOCATION:Forest St UC\, 21 Forest St\, Bendigo\, VIC\, 3550\, Australia
ATTACH;FMTTYPE=image/jpeg:https://bendigocentralaxedale.ucavictas.org.au/wp-content/uploads/2023/03/forestst.jpg
END:VEVENT
BEGIN:VEVENT
DTSTART;TZID=Australia/Melbourne:20250606T090000
DTEND;TZID=Australia/Melbourne:20250606T100000
DTSTAMP:20260421T151623
CREATED:20250317T220933Z
LAST-MODIFIED:20250317T220933Z
UID:1375-1749200400-1749204000@bendigocentralaxedale.ucavictas.org.au
SUMMARY:Meditation Group
DESCRIPTION:Weekly meeting in the St Andrew’s Chapel for a period of silence and reflection.
URL:https://bendigocentralaxedale.ucavictas.org.au/event/meditation-group-25/
LOCATION:St Andrew’s Chapel
ATTACH;FMTTYPE=image/jpeg:https://bendigocentralaxedale.ucavictas.org.au/wp-content/uploads/2023/04/candleforgive.jpg
END:VEVENT
BEGIN:VEVENT
DTSTART;TZID=Australia/Melbourne:20250605T100000
DTEND;TZID=Australia/Melbourne:20250605T130000
DTSTAMP:20260421T151623
CREATED:20250317T002335Z
LAST-MODIFIED:20250317T002335Z
UID:1318-1749117600-1749128400@bendigocentralaxedale.ucavictas.org.au
SUMMARY:Cuppa with Company
DESCRIPTION:Runs every Thursday at Forest St UC.  In our relaxed atmosphere you can enjoy: \n\nHot and Cold beverages\nDelicious lunch\, sweets and snacks\nA friendly chin wag
URL:https://bendigocentralaxedale.ucavictas.org.au/event/cuppa-with-company-49/
LOCATION:Forest St UC Hall\, 21 Forest St\, Bendigo\, Vic\, 3550\, Australia
ATTACH;FMTTYPE=image/jpeg:https://bendigocentralaxedale.ucavictas.org.au/wp-content/uploads/2023/04/cafe-2013_08_15-05_29_43-UTC.jpg
END:VEVENT
BEGIN:VEVENT
DTSTART;TZID=Australia/Melbourne:20250604T090000
DTEND;TZID=Australia/Melbourne:20250604T130000
DTSTAMP:20260421T151623
CREATED:20250317T003507Z
LAST-MODIFIED:20250317T003507Z
UID:1344-1749027600-1749042000@bendigocentralaxedale.ucavictas.org.au
SUMMARY:Uniting Threads
DESCRIPTION:The group meets weekly\, on Wednesdays at St Andrew’s Uniting Church
URL:https://bendigocentralaxedale.ucavictas.org.au/event/uniting-threads-40/
LOCATION:St Andrew’s Small Hall\, 26 Myers St\, Bendigo\, VIC\, 3550\, Australia
END:VEVENT
BEGIN:VEVENT
DTSTART;TZID=Australia/Melbourne:20250603T160000
DTEND;TZID=Australia/Melbourne:20250603T170000
DTSTAMP:20260421T151623
CREATED:20250317T001203Z
LAST-MODIFIED:20250317T001203Z
UID:1297-1748966400-1748970000@bendigocentralaxedale.ucavictas.org.au
SUMMARY:BUCSJG Meeting
DESCRIPTION:Bendigo Uniting Churches Social Justice Group Meets the first Tuesday of the month.
URL:https://bendigocentralaxedale.ucavictas.org.au/event/bucsjg-meeting-3/
LOCATION:St Andrew’s Meeting Room
ATTACH;FMTTYPE=image/jpeg:https://bendigocentralaxedale.ucavictas.org.au/wp-content/uploads/2023/04/banner4-2.jpg
END:VEVENT
BEGIN:VEVENT
DTSTART;TZID=Australia/Melbourne:20250601T143000
DTEND;TZID=Australia/Melbourne:20250601T153000
DTSTAMP:20260421T151623
CREATED:20250316T234753Z
LAST-MODIFIED:20250316T234753Z
UID:1274-1748788200-1748791800@bendigocentralaxedale.ucavictas.org.au
SUMMARY:Communion Service at Axedale
DESCRIPTION:Holy Communion service (Easter 7) led by Rev Di Esbensen
URL:https://bendigocentralaxedale.ucavictas.org.au/event/communion-service-at-axedale-4/
LOCATION:St Andrew’s Axedale UC\, 80 High St\, Axedale\, VIC\, 3551\, Australia
ATTACH;FMTTYPE=image/gif:https://bendigocentralaxedale.ucavictas.org.au/wp-content/uploads/2023/03/axeUC-2015_03_18-01_34_36-UTC.gif
END:VEVENT
BEGIN:VEVENT
DTSTART;TZID=Australia/Melbourne:20250601T093000
DTEND;TZID=Australia/Melbourne:20250601T103000
DTSTAMP:20260421T151623
CREATED:20250316T234644Z
LAST-MODIFIED:20250316T234644Z
UID:1272-1748770200-1748773800@bendigocentralaxedale.ucavictas.org.au
SUMMARY:Communion Service at St Andrew's
DESCRIPTION:Holy Communion service (Easter 7) led by Rev Di Esbensen
URL:https://bendigocentralaxedale.ucavictas.org.au/event/communion-service-at-st-andrews-5/
LOCATION:St Andrew’s UC\, 26 Myers St\, Bendigo\, VIC\, 3550\, Australia
ATTACH;FMTTYPE=image/png:https://bendigocentralaxedale.ucavictas.org.au/wp-content/uploads/2023/03/StA-2014_07_22-00_55_28-UTC-1.png
END:VEVENT
BEGIN:VEVENT
DTSTART;TZID=Australia/Melbourne:20250530T090000
DTEND;TZID=Australia/Melbourne:20250530T100000
DTSTAMP:20260421T151623
CREATED:20250317T220821Z
LAST-MODIFIED:20250317T220821Z
UID:1373-1748595600-1748599200@bendigocentralaxedale.ucavictas.org.au
SUMMARY:Meditation Group
DESCRIPTION:Weekly meeting in the St Andrew’s Chapel for a period of silence and reflection.
URL:https://bendigocentralaxedale.ucavictas.org.au/event/meditation-group-24/
LOCATION:St Andrew’s Chapel
ATTACH;FMTTYPE=image/jpeg:https://bendigocentralaxedale.ucavictas.org.au/wp-content/uploads/2023/04/candleforgive.jpg
END:VEVENT
BEGIN:VEVENT
DTSTART;TZID=Australia/Melbourne:20250529T100000
DTEND;TZID=Australia/Melbourne:20250529T130000
DTSTAMP:20260421T151623
CREATED:20250317T002241Z
LAST-MODIFIED:20250317T002241Z
UID:1316-1748512800-1748523600@bendigocentralaxedale.ucavictas.org.au
SUMMARY:Cuppa with Company
DESCRIPTION:Runs every Thursday at Forest St UC.  In our relaxed atmosphere you can enjoy: \n\nHot and Cold beverages\nDelicious lunch\, sweets and snacks\nA friendly chin wag
URL:https://bendigocentralaxedale.ucavictas.org.au/event/cuppa-with-company-48/
LOCATION:Forest St UC Hall\, 21 Forest St\, Bendigo\, Vic\, 3550\, Australia
ATTACH;FMTTYPE=image/jpeg:https://bendigocentralaxedale.ucavictas.org.au/wp-content/uploads/2023/04/cafe-2013_08_15-05_29_43-UTC.jpg
END:VEVENT
BEGIN:VEVENT
DTSTART;TZID=Australia/Melbourne:20250528T090000
DTEND;TZID=Australia/Melbourne:20250528T130000
DTSTAMP:20260421T151623
CREATED:20250317T003414Z
LAST-MODIFIED:20250317T003414Z
UID:1342-1748422800-1748437200@bendigocentralaxedale.ucavictas.org.au
SUMMARY:Uniting Threads
DESCRIPTION:The group meets weekly\, on Wednesdays at St Andrew’s Uniting Church
URL:https://bendigocentralaxedale.ucavictas.org.au/event/uniting-threads-39/
LOCATION:St Andrew’s Small Hall\, 26 Myers St\, Bendigo\, VIC\, 3550\, Australia
ATTACH;FMTTYPE=image/jpeg:https://bendigocentralaxedale.ucavictas.org.au/wp-content/uploads/2023/04/t_unitingthreads.jpg
END:VEVENT
BEGIN:VEVENT
DTSTART;TZID=Australia/Melbourne:20250527T140000
DTEND;TZID=Australia/Melbourne:20250527T163000
DTSTAMP:20260421T151623
CREATED:20250408T014257Z
LAST-MODIFIED:20250408T014257Z
UID:1528-1748354400-1748363400@bendigocentralaxedale.ucavictas.org.au
SUMMARY:Church\, Law\, Land and Gospel - three conversation in May
DESCRIPTION:‘Murriyang – a song of time’  \nA conversation about former journalist Stan Grant’s latest reflection on his personal journey in the wider context of Australian history and global challenges\, which is both lament and an affirmation of where healing can be found after a time of rupture and trauma.
URL:https://bendigocentralaxedale.ucavictas.org.au/event/church-law-land-and-gospel-three-conversation-in-may-3/
LOCATION:St Andrew’s Axedale UC\, 80 High St\, Axedale\, VIC\, 3551\, Australia
END:VEVENT
BEGIN:VEVENT
DTSTART;TZID=Australia/Melbourne:20250525T103000
DTEND;TZID=Australia/Melbourne:20250525T113000
DTSTAMP:20260421T151623
CREATED:20250326T232448Z
LAST-MODIFIED:20250326T232448Z
UID:1466-1748169000-1748172600@bendigocentralaxedale.ucavictas.org.au
SUMMARY:Annual Congregational Meeting
DESCRIPTION:Annual Report will be released on Sunday 18th May.  This report will be presented for approval at the Annual Meeting following the worship service on Sunday 25th May
URL:https://bendigocentralaxedale.ucavictas.org.au/event/annual-congregational-meeting/
LOCATION:Forest St UC\, 21 Forest St\, Bendigo\, VIC\, 3550\, Australia
END:VEVENT
END:VCALENDAR