BEGIN:VCALENDAR
VERSION:2.0
PRODID:-//Bendigo Central Axedale - ECPv6.15.18//NONSGML v1.0//EN
CALSCALE:GREGORIAN
METHOD:PUBLISH
X-WR-CALNAME:Bendigo Central Axedale
X-ORIGINAL-URL:https://bendigocentralaxedale.ucavictas.org.au
X-WR-CALDESC:Events for Bendigo Central Axedale
REFRESH-INTERVAL;VALUE=DURATION:PT1H
X-Robots-Tag:noindex
X-PUBLISHED-TTL:PT1H
BEGIN:VTIMEZONE
TZID:Australia/Melbourne
BEGIN:STANDARD
TZOFFSETFROM:+1100
TZOFFSETTO:+1000
TZNAME:AEST
DTSTART:20240406T160000
END:STANDARD
BEGIN:DAYLIGHT
TZOFFSETFROM:+1000
TZOFFSETTO:+1100
TZNAME:AEDT
DTSTART:20241005T160000
END:DAYLIGHT
BEGIN:STANDARD
TZOFFSETFROM:+1100
TZOFFSETTO:+1000
TZNAME:AEST
DTSTART:20250405T160000
END:STANDARD
BEGIN:DAYLIGHT
TZOFFSETFROM:+1000
TZOFFSETTO:+1100
TZNAME:AEDT
DTSTART:20251004T160000
END:DAYLIGHT
BEGIN:STANDARD
TZOFFSETFROM:+1100
TZOFFSETTO:+1000
TZNAME:AEST
DTSTART:20260404T160000
END:STANDARD
BEGIN:DAYLIGHT
TZOFFSETFROM:+1000
TZOFFSETTO:+1100
TZNAME:AEDT
DTSTART:20261003T160000
END:DAYLIGHT
END:VTIMEZONE
BEGIN:VEVENT
DTSTART;TZID=Australia/Melbourne:20250814T100000
DTEND;TZID=Australia/Melbourne:20250814T130000
DTSTAMP:20260421T100248
CREATED:20250708T023216Z
LAST-MODIFIED:20250708T023216Z
UID:1624-1755165600-1755176400@bendigocentralaxedale.ucavictas.org.au
SUMMARY:Cuppa with Company
DESCRIPTION:Runs every Thursday at Forest St UC.  In our relaxed atmosphere you can enjoy: \n\nHot and Cold beverages\nDelicious lunch\, sweets and snacks\nA friendly chin wag
URL:https://bendigocentralaxedale.ucavictas.org.au/event/cuppa-with-company-59/
LOCATION:Forest St UC Hall\, 21 Forest St\, Bendigo\, Vic\, 3550\, Australia
ATTACH;FMTTYPE=image/jpeg:https://bendigocentralaxedale.ucavictas.org.au/wp-content/uploads/2023/04/cafe-2013_08_15-05_29_43-UTC.jpg
END:VEVENT
BEGIN:VEVENT
DTSTART;TZID=Australia/Melbourne:20250813T090000
DTEND;TZID=Australia/Melbourne:20250813T130000
DTSTAMP:20260421T100248
CREATED:20250708T024056Z
LAST-MODIFIED:20250708T024056Z
UID:1640-1755075600-1755090000@bendigocentralaxedale.ucavictas.org.au
SUMMARY:Uniting Threads
DESCRIPTION:The group meets weekly\, on Wednesdays at St Andrew’s Uniting Church
URL:https://bendigocentralaxedale.ucavictas.org.au/event/uniting-threads-47/
LOCATION:St Andrew’s Small Hall\, 26 Myers St\, Bendigo\, VIC\, 3550\, Australia
ATTACH;FMTTYPE=image/jpeg:https://bendigocentralaxedale.ucavictas.org.au/wp-content/uploads/2023/04/t_unitingthreads.jpg
END:VEVENT
BEGIN:VEVENT
DTSTART;TZID=Australia/Melbourne:20250812T193000
DTEND;TZID=Australia/Melbourne:20250812T203000
DTSTAMP:20260421T100248
CREATED:20250722T031839Z
LAST-MODIFIED:20250722T031839Z
UID:1731-1755027000-1755030600@bendigocentralaxedale.ucavictas.org.au
SUMMARY:Going Deeper Discussion Group
DESCRIPTION:
URL:https://bendigocentralaxedale.ucavictas.org.au/event/going-deeper-discussion-group-4/
LOCATION:Forest St Vestry\, 21 Forest St\, Bendigo\, Vic\, 3550\, Australia
ATTACH;FMTTYPE=image/jpeg:https://bendigocentralaxedale.ucavictas.org.au/wp-content/uploads/2023/04/bible.jpg
END:VEVENT
BEGIN:VEVENT
DTSTART;TZID=Australia/Melbourne:20250810T093000
DTEND;TZID=Australia/Melbourne:20250810T103000
DTSTAMP:20260421T100248
CREATED:20250708T025344Z
LAST-MODIFIED:20250708T025344Z
UID:1662-1754818200-1754821800@bendigocentralaxedale.ucavictas.org.au
SUMMARY:Worship Service at St Andrew's
DESCRIPTION:Pentecost 9 led by Rev Di Esbensen
URL:https://bendigocentralaxedale.ucavictas.org.au/event/worship-service-at-st-andrews-8/
LOCATION:St Andrew’s UC\, 26 Myers St\, Bendigo\, VIC\, 3550\, Australia
ATTACH;FMTTYPE=image/jpeg:https://bendigocentralaxedale.ucavictas.org.au/wp-content/uploads/2023/08/DJI_20230824_131824_909.jpg
END:VEVENT
BEGIN:VEVENT
DTSTART;TZID=Australia/Melbourne:20250808T090000
DTEND;TZID=Australia/Melbourne:20250808T100000
DTSTAMP:20260421T100248
CREATED:20250708T021121Z
LAST-MODIFIED:20250708T021121Z
UID:1604-1754643600-1754647200@bendigocentralaxedale.ucavictas.org.au
SUMMARY:Meditation Group
DESCRIPTION:Weekly meeting in the St Andrew’s Chapel for a period of silence and reflection.
URL:https://bendigocentralaxedale.ucavictas.org.au/event/meditation-group-34/
LOCATION:St Andrew’s UC\, 26 Myers St\, Bendigo\, VIC\, 3550\, Australia
ATTACH;FMTTYPE=image/jpeg:https://bendigocentralaxedale.ucavictas.org.au/wp-content/uploads/2023/04/candleforgive.jpg
END:VEVENT
BEGIN:VEVENT
DTSTART;TZID=Australia/Melbourne:20250807T100000
DTEND;TZID=Australia/Melbourne:20250807T130000
DTSTAMP:20260421T100248
CREATED:20250708T023132Z
LAST-MODIFIED:20250708T023132Z
UID:1622-1754560800-1754571600@bendigocentralaxedale.ucavictas.org.au
SUMMARY:Cuppa with Company
DESCRIPTION:Runs every Thursday at Forest St UC.  In our relaxed atmosphere you can enjoy: \n\nHot and Cold beverages\nDelicious lunch\, sweets and snacks\nA friendly chin wag
URL:https://bendigocentralaxedale.ucavictas.org.au/event/cuppa-with-company-58/
LOCATION:Forest St UC Hall\, 21 Forest St\, Bendigo\, Vic\, 3550\, Australia
ATTACH;FMTTYPE=image/jpeg:https://bendigocentralaxedale.ucavictas.org.au/wp-content/uploads/2023/04/cafe-2013_08_15-05_29_43-UTC.jpg
END:VEVENT
BEGIN:VEVENT
DTSTART;TZID=Australia/Melbourne:20250806T090000
DTEND;TZID=Australia/Melbourne:20250806T130000
DTSTAMP:20260421T100248
CREATED:20250708T023958Z
LAST-MODIFIED:20250708T023958Z
UID:1638-1754470800-1754485200@bendigocentralaxedale.ucavictas.org.au
SUMMARY:Uniting Threads
DESCRIPTION:The group meets weekly\, on Wednesdays at St Andrew’s Uniting Church
URL:https://bendigocentralaxedale.ucavictas.org.au/event/uniting-threads-46/
LOCATION:St Andrew’s Small Hall\, 26 Myers St\, Bendigo\, VIC\, 3550\, Australia
ATTACH;FMTTYPE=image/jpeg:https://bendigocentralaxedale.ucavictas.org.au/wp-content/uploads/2023/04/t_unitingthreads.jpg
END:VEVENT
BEGIN:VEVENT
DTSTART;TZID=Australia/Melbourne:20250805T160000
DTEND;TZID=Australia/Melbourne:20250805T170000
DTSTAMP:20260421T100248
CREATED:20250708T023627Z
LAST-MODIFIED:20250812T010046Z
UID:1632-1754409600-1754413200@bendigocentralaxedale.ucavictas.org.au
SUMMARY:BUCSJG Meeting
DESCRIPTION:Bendigo Uniting Churches Social Justice Group Meets the first Tuesday of the month.
URL:https://bendigocentralaxedale.ucavictas.org.au/event/bucsjg-meeting-5/
LOCATION:St Andrew’s Meeting Room
ATTACH;FMTTYPE=image/jpeg:https://bendigocentralaxedale.ucavictas.org.au/wp-content/uploads/2023/04/banner4-2.jpg
END:VEVENT
BEGIN:VEVENT
DTSTART;TZID=Australia/Melbourne:20250803T143000
DTEND;TZID=Australia/Melbourne:20250803T153000
DTSTAMP:20260421T100248
CREATED:20250708T025240Z
LAST-MODIFIED:20250708T025240Z
UID:1660-1754231400-1754235000@bendigocentralaxedale.ucavictas.org.au
SUMMARY:Communion Service at Axedale
DESCRIPTION:Pentecost 8 led by Rev Di Esbensen
URL:https://bendigocentralaxedale.ucavictas.org.au/event/communion-service-at-axedale-5/
LOCATION:St Andrew’s Axedale UC\, 80 High St\, Axedale\, VIC\, 3551\, Australia
ATTACH;FMTTYPE=image/gif:https://bendigocentralaxedale.ucavictas.org.au/wp-content/uploads/2023/03/axeUC-2015_03_18-01_34_36-UTC.gif
END:VEVENT
BEGIN:VEVENT
DTSTART;TZID=Australia/Melbourne:20250803T093000
DTEND;TZID=Australia/Melbourne:20250803T103000
DTSTAMP:20260421T100248
CREATED:20250708T025147Z
LAST-MODIFIED:20250708T025147Z
UID:1658-1754213400-1754217000@bendigocentralaxedale.ucavictas.org.au
SUMMARY:Communion Service at Forest St
DESCRIPTION:Pentecost 8 led by Rev Di Esbensen
URL:https://bendigocentralaxedale.ucavictas.org.au/event/communion-service-at-forest-st-2/
LOCATION:Forest St UC\, 21 Forest St\, Bendigo\, VIC\, 3550\, Australia
ATTACH;FMTTYPE=image/jpeg:https://bendigocentralaxedale.ucavictas.org.au/wp-content/uploads/2023/03/forestst.jpg
END:VEVENT
BEGIN:VEVENT
DTSTART;TZID=Australia/Melbourne:20250801T090000
DTEND;TZID=Australia/Melbourne:20250801T100000
DTSTAMP:20260421T100248
CREATED:20250708T021013Z
LAST-MODIFIED:20250708T021013Z
UID:1602-1754038800-1754042400@bendigocentralaxedale.ucavictas.org.au
SUMMARY:Meditation Group
DESCRIPTION:Weekly meeting in the St Andrew’s Chapel for a period of silence and reflection.
URL:https://bendigocentralaxedale.ucavictas.org.au/event/meditation-group-33/
LOCATION:St Andrew’s UC\, 26 Myers St\, Bendigo\, VIC\, 3550\, Australia
ATTACH;FMTTYPE=image/jpeg:https://bendigocentralaxedale.ucavictas.org.au/wp-content/uploads/2023/04/candleforgive.jpg
END:VEVENT
BEGIN:VEVENT
DTSTART;TZID=Australia/Melbourne:20250731T100000
DTEND;TZID=Australia/Melbourne:20250731T130000
DTSTAMP:20260421T100248
CREATED:20250708T023024Z
LAST-MODIFIED:20250722T030823Z
UID:1620-1753956000-1753966800@bendigocentralaxedale.ucavictas.org.au
SUMMARY:Cuppa with Company
DESCRIPTION:Runs every Thursday at Forest St UC.  In our relaxed atmosphere you can enjoy: \n\nHot and Cold beverages\nDelicious lunch\, sweets and snacks\nA friendly chin wag
URL:https://bendigocentralaxedale.ucavictas.org.au/event/cuppa-with-company-57/
LOCATION:Forest St UC Hall\, 21 Forest St\, Bendigo\, Vic\, 3550\, Australia
ATTACH;FMTTYPE=image/jpeg:https://bendigocentralaxedale.ucavictas.org.au/wp-content/uploads/2023/04/cafe-2013_08_15-05_29_43-UTC.jpg
END:VEVENT
BEGIN:VEVENT
DTSTART;TZID=Australia/Melbourne:20250730T090000
DTEND;TZID=Australia/Melbourne:20250730T130000
DTSTAMP:20260421T100248
CREATED:20250708T023912Z
LAST-MODIFIED:20250708T023912Z
UID:1636-1753866000-1753880400@bendigocentralaxedale.ucavictas.org.au
SUMMARY:Uniting Threads
DESCRIPTION:The group meets weekly\, on Wednesdays at St Andrew’s Uniting Church
URL:https://bendigocentralaxedale.ucavictas.org.au/event/uniting-threads-45/
LOCATION:St Andrew’s Small Hall\, 26 Myers St\, Bendigo\, VIC\, 3550\, Australia
ATTACH;FMTTYPE=image/jpeg:https://bendigocentralaxedale.ucavictas.org.au/wp-content/uploads/2023/04/t_unitingthreads.jpg
END:VEVENT
BEGIN:VEVENT
DTSTART;TZID=Australia/Melbourne:20250729T193000
DTEND;TZID=Australia/Melbourne:20250729T203000
DTSTAMP:20260421T100248
CREATED:20250722T022410Z
LAST-MODIFIED:20250722T022410Z
UID:1690-1753817400-1753821000@bendigocentralaxedale.ucavictas.org.au
SUMMARY:Church Council Meeting
DESCRIPTION:
URL:https://bendigocentralaxedale.ucavictas.org.au/event/church-council-meeting-4/
LOCATION:Forest St Vestry\, 21 Forest St\, Bendigo\, Vic\, 3550\, Australia
END:VEVENT
BEGIN:VEVENT
DTSTART;TZID=Australia/Melbourne:20250727T093000
DTEND;TZID=Australia/Melbourne:20250727T103000
DTSTAMP:20260421T100248
CREATED:20250708T025014Z
LAST-MODIFIED:20250708T025014Z
UID:1656-1753608600-1753612200@bendigocentralaxedale.ucavictas.org.au
SUMMARY:Worship Service at St Andrew's
DESCRIPTION:Pentecost 7 led by Rev DiEsbensen
URL:https://bendigocentralaxedale.ucavictas.org.au/event/worship-service-at-st-andrews-7/
LOCATION:St Andrew’s UC\, 26 Myers St\, Bendigo\, VIC\, 3550\, Australia
ATTACH;FMTTYPE=image/jpeg:https://bendigocentralaxedale.ucavictas.org.au/wp-content/uploads/2023/08/DJI_20230824_131824_909.jpg
END:VEVENT
BEGIN:VEVENT
DTSTART;TZID=Australia/Melbourne:20250725T090000
DTEND;TZID=Australia/Melbourne:20250725T100000
DTSTAMP:20260421T100248
CREATED:20250708T020857Z
LAST-MODIFIED:20250708T020857Z
UID:1600-1753434000-1753437600@bendigocentralaxedale.ucavictas.org.au
SUMMARY:Meditation Group
DESCRIPTION:Weekly meeting in the St Andrew’s Chapel for a period of silence and reflection.
URL:https://bendigocentralaxedale.ucavictas.org.au/event/meditation-group-32/
LOCATION:St Andrew’s UC\, 26 Myers St\, Bendigo\, VIC\, 3550\, Australia
ATTACH;FMTTYPE=image/jpeg:https://bendigocentralaxedale.ucavictas.org.au/wp-content/uploads/2023/04/candleforgive.jpg
END:VEVENT
BEGIN:VEVENT
DTSTART;TZID=Australia/Melbourne:20250724T100000
DTEND;TZID=Australia/Melbourne:20250724T130000
DTSTAMP:20260421T100248
CREATED:20250708T022901Z
LAST-MODIFIED:20250708T022901Z
UID:1618-1753351200-1753362000@bendigocentralaxedale.ucavictas.org.au
SUMMARY:Cuppa with Company
DESCRIPTION:Runs every Thursday at Forest St UC.  In our relaxed atmosphere you can enjoy: \n\nHot and Cold beverages\nDelicious lunch\, sweets and snacks\nA friendly chin wag
URL:https://bendigocentralaxedale.ucavictas.org.au/event/cuppa-with-company-56/
LOCATION:Forest St UC Hall\, 21 Forest St\, Bendigo\, Vic\, 3550\, Australia
ATTACH;FMTTYPE=image/jpeg:https://bendigocentralaxedale.ucavictas.org.au/wp-content/uploads/2023/04/cafe-2013_08_15-05_29_43-UTC.jpg
END:VEVENT
BEGIN:VEVENT
DTSTART;TZID=Australia/Melbourne:20250723T090000
DTEND;TZID=Australia/Melbourne:20250723T130000
DTSTAMP:20260421T100248
CREATED:20250708T023823Z
LAST-MODIFIED:20250708T023823Z
UID:1634-1753261200-1753275600@bendigocentralaxedale.ucavictas.org.au
SUMMARY:Uniting Threads
DESCRIPTION:The group meets weekly\, on Wednesdays at St Andrew’s Uniting Church
URL:https://bendigocentralaxedale.ucavictas.org.au/event/uniting-threads-44/
LOCATION:St Andrew’s Small Hall\, 26 Myers St\, Bendigo\, VIC\, 3550\, Australia
ATTACH;FMTTYPE=image/jpeg:https://bendigocentralaxedale.ucavictas.org.au/wp-content/uploads/2023/04/t_unitingthreads.jpg
END:VEVENT
BEGIN:VEVENT
DTSTART;TZID=Australia/Melbourne:20250720T143000
DTEND;TZID=Australia/Melbourne:20250720T153000
DTSTAMP:20260421T100248
CREATED:20250708T024913Z
LAST-MODIFIED:20250708T024913Z
UID:1654-1753021800-1753025400@bendigocentralaxedale.ucavictas.org.au
SUMMARY:Worship Service at Axedale
DESCRIPTION:Pentecost 6 led by Rev Kevin Dobson
URL:https://bendigocentralaxedale.ucavictas.org.au/event/worship-service-at-axedale-4/
LOCATION:St Andrew’s Axedale UC\, 80 High St\, Axedale\, VIC\, 3551\, Australia
ATTACH;FMTTYPE=image/gif:https://bendigocentralaxedale.ucavictas.org.au/wp-content/uploads/2023/03/axeUC-2015_03_18-01_34_36-UTC.gif
END:VEVENT
BEGIN:VEVENT
DTSTART;TZID=Australia/Melbourne:20250720T093000
DTEND;TZID=Australia/Melbourne:20250720T103000
DTSTAMP:20260421T100248
CREATED:20250708T024818Z
LAST-MODIFIED:20250708T024818Z
UID:1652-1753003800-1753007400@bendigocentralaxedale.ucavictas.org.au
SUMMARY:Worship Service at Forest St
DESCRIPTION:Pentecost 6 led by Rev Kevin Dobson
URL:https://bendigocentralaxedale.ucavictas.org.au/event/worship-service-at-forest-st-7/
LOCATION:Forest St UC\, 21 Forest St\, Bendigo\, VIC\, 3550\, Australia
ATTACH;FMTTYPE=image/jpeg:https://bendigocentralaxedale.ucavictas.org.au/wp-content/uploads/2023/03/forestst.jpg
END:VEVENT
BEGIN:VEVENT
DTSTART;TZID=Australia/Melbourne:20250718T090000
DTEND;TZID=Australia/Melbourne:20250718T100000
DTSTAMP:20260421T100248
CREATED:20250708T020717Z
LAST-MODIFIED:20250708T020717Z
UID:1598-1752829200-1752832800@bendigocentralaxedale.ucavictas.org.au
SUMMARY:Meditation Group
DESCRIPTION:Weekly meeting in the St Andrew’s Chapel for a period of silence and reflection.
URL:https://bendigocentralaxedale.ucavictas.org.au/event/meditation-group-31/
LOCATION:St Andrew’s UC\, 26 Myers St\, Bendigo\, VIC\, 3550\, Australia
ATTACH;FMTTYPE=image/jpeg:https://bendigocentralaxedale.ucavictas.org.au/wp-content/uploads/2023/04/candleforgive.jpg
END:VEVENT
BEGIN:VEVENT
DTSTART;TZID=Australia/Melbourne:20250717T100000
DTEND;TZID=Australia/Melbourne:20250717T130000
DTSTAMP:20260421T100248
CREATED:20250708T022746Z
LAST-MODIFIED:20250708T022746Z
UID:1616-1752746400-1752757200@bendigocentralaxedale.ucavictas.org.au
SUMMARY:Cuppa with Company
DESCRIPTION:Runs every Thursday at Forest St UC.  In our relaxed atmosphere you can enjoy: \n\nHot and Cold beverages\nDelicious lunch\, sweets and snacks\nA friendly chin wag
URL:https://bendigocentralaxedale.ucavictas.org.au/event/cuppa-with-company-55/
LOCATION:Forest St UC Hall\, 21 Forest St\, Bendigo\, Vic\, 3550\, Australia
ATTACH;FMTTYPE=image/jpeg:https://bendigocentralaxedale.ucavictas.org.au/wp-content/uploads/2023/04/cafe-2013_08_15-05_29_43-UTC.jpg
END:VEVENT
BEGIN:VEVENT
DTSTART;TZID=Australia/Melbourne:20250713T093000
DTEND;TZID=Australia/Melbourne:20250713T103000
DTSTAMP:20260421T100248
CREATED:20250708T024554Z
LAST-MODIFIED:20250708T024554Z
UID:1648-1752399000-1752402600@bendigocentralaxedale.ucavictas.org.au
SUMMARY:Worship Service at St Andrew's
DESCRIPTION:Pentecost 5 led by Rev Di Esbensen
URL:https://bendigocentralaxedale.ucavictas.org.au/event/worship-service-at-st-andrews-6/
LOCATION:St Andrew’s UC\, 26 Myers St\, Bendigo\, VIC\, 3550\, Australia
ATTACH;FMTTYPE=image/jpeg:https://bendigocentralaxedale.ucavictas.org.au/wp-content/uploads/2023/08/DJI_20230824_131824_909.jpg
END:VEVENT
BEGIN:VEVENT
DTSTART;TZID=Australia/Melbourne:20250711T180000
DTEND;TZID=Australia/Melbourne:20250711T190000
DTSTAMP:20260421T100248
CREATED:20250708T033749Z
LAST-MODIFIED:20250708T033749Z
UID:1675-1752256800-1752260400@bendigocentralaxedale.ucavictas.org.au
SUMMARY:Keys of Gold Concert
DESCRIPTION:
URL:https://bendigocentralaxedale.ucavictas.org.au/event/keys-of-gold-concert/
LOCATION:St Andrew’s UC\, 26 Myers St\, Bendigo\, VIC\, 3550\, Australia
END:VEVENT
BEGIN:VEVENT
DTSTART;TZID=Australia/Melbourne:20250711T133000
DTEND;TZID=Australia/Melbourne:20250711T143000
DTSTAMP:20260421T100248
CREATED:20250708T033529Z
LAST-MODIFIED:20250708T033529Z
UID:1673-1752240600-1752244200@bendigocentralaxedale.ucavictas.org.au
SUMMARY:National Youth Choir of Australia Concert
DESCRIPTION:
URL:https://bendigocentralaxedale.ucavictas.org.au/event/national-youth-choir-of-australia-concert/
LOCATION:St Andrew’s UC\, 26 Myers St\, Bendigo\, VIC\, 3550\, Australia
END:VEVENT
BEGIN:VEVENT
DTSTART;TZID=Australia/Melbourne:20250711T090000
DTEND;TZID=Australia/Melbourne:20250711T100000
DTSTAMP:20260421T100248
CREATED:20250708T020628Z
LAST-MODIFIED:20250708T020800Z
UID:1596-1752224400-1752228000@bendigocentralaxedale.ucavictas.org.au
SUMMARY:Meditation Group
DESCRIPTION:Weekly meeting in the St Andrew’s Chapel for a period of silence and reflection.
URL:https://bendigocentralaxedale.ucavictas.org.au/event/meditation-group-30/
LOCATION:St Andrew’s UC\, 26 Myers St\, Bendigo\, VIC\, 3550\, Australia
ATTACH;FMTTYPE=image/jpeg:https://bendigocentralaxedale.ucavictas.org.au/wp-content/uploads/2023/04/candleforgive.jpg
END:VEVENT
BEGIN:VEVENT
DTSTART;TZID=Australia/Melbourne:20250710T100000
DTEND;TZID=Australia/Melbourne:20250710T130000
DTSTAMP:20260421T100248
CREATED:20250708T022655Z
LAST-MODIFIED:20250708T022932Z
UID:1614-1752141600-1752152400@bendigocentralaxedale.ucavictas.org.au
SUMMARY:Cuppa with Company
DESCRIPTION:Runs every Thursday at Forest St UC.  In our relaxed atmosphere you can enjoy: \n\nHot and Cold beverages\nDelicious lunch\, sweets and snacks\nA friendly chin wag
URL:https://bendigocentralaxedale.ucavictas.org.au/event/cuppa-with-company-54/
LOCATION:Forest St UC Hall\, 21 Forest St\, Bendigo\, Vic\, 3550\, Australia
ATTACH;FMTTYPE=image/jpeg:https://bendigocentralaxedale.ucavictas.org.au/wp-content/uploads/2023/04/cafe-2013_08_15-05_29_43-UTC.jpg
END:VEVENT
BEGIN:VEVENT
DTSTART;TZID=Australia/Melbourne:20250706T143000
DTEND;TZID=Australia/Melbourne:20250706T153000
DTSTAMP:20260421T100248
CREATED:20250708T024657Z
LAST-MODIFIED:20250708T024657Z
UID:1650-1751812200-1751815800@bendigocentralaxedale.ucavictas.org.au
SUMMARY:Communion Service at Axedale
DESCRIPTION:Pentecost 4 led by Rev Di Esbensen
URL:https://bendigocentralaxedale.ucavictas.org.au/event/communion-service-at-axedale-2/
LOCATION:St Andrew’s Axedale UC\, 80 High St\, Axedale\, VIC\, 3551\, Australia
ATTACH;FMTTYPE=image/gif:https://bendigocentralaxedale.ucavictas.org.au/wp-content/uploads/2023/03/axeUC-2015_03_18-01_34_36-UTC.gif
END:VEVENT
BEGIN:VEVENT
DTSTART;TZID=Australia/Melbourne:20250706T093000
DTEND;TZID=Australia/Melbourne:20250706T103000
DTSTAMP:20260421T100248
CREATED:20250708T024438Z
LAST-MODIFIED:20250708T024438Z
UID:1646-1751794200-1751797800@bendigocentralaxedale.ucavictas.org.au
SUMMARY:Communion Service at Forest St
DESCRIPTION:Pentecost 4 led by Rev Di Esbensen
URL:https://bendigocentralaxedale.ucavictas.org.au/event/communion-service-at-forest-st/
LOCATION:Forest St UC\, 21 Forest St\, Bendigo\, VIC\, 3550\, Australia
ATTACH;FMTTYPE=image/jpeg:https://bendigocentralaxedale.ucavictas.org.au/wp-content/uploads/2023/03/forestst.jpg
END:VEVENT
BEGIN:VEVENT
DTSTART;TZID=Australia/Melbourne:20250704T090000
DTEND;TZID=Australia/Melbourne:20250704T100000
DTSTAMP:20260421T100248
CREATED:20250708T020529Z
LAST-MODIFIED:20250708T020740Z
UID:1594-1751619600-1751623200@bendigocentralaxedale.ucavictas.org.au
SUMMARY:Meditation Group
DESCRIPTION:Weekly meeting in the St Andrew’s Chapel for a period of silence and reflection.
URL:https://bendigocentralaxedale.ucavictas.org.au/event/meditation-group-29/
LOCATION:St Andrew’s UC\, 26 Myers St\, Bendigo\, VIC\, 3550\, Australia
ATTACH;FMTTYPE=image/jpeg:https://bendigocentralaxedale.ucavictas.org.au/wp-content/uploads/2023/04/candleforgive.jpg
END:VEVENT
END:VCALENDAR